BEGIN:VCALENDAR
VERSION:2.0
PRODID:-//Mostly Harmless - ECPv6.12.0.1//NONSGML v1.0//EN
CALSCALE:GREGORIAN
METHOD:PUBLISH
X-ORIGINAL-URL:https://mostlyharmless.cz
X-WR-CALDESC:Akce na Mostly Harmless
REFRESH-INTERVAL;VALUE=DURATION:PT1H
X-Robots-Tag:noindex
X-PUBLISHED-TTL:PT1H
BEGIN:VTIMEZONE
TZID:Europe/Prague
BEGIN:DAYLIGHT
TZOFFSETFROM:+0100
TZOFFSETTO:+0200
TZNAME:CEST
DTSTART:20250330T010000
END:DAYLIGHT
BEGIN:STANDARD
TZOFFSETFROM:+0200
TZOFFSETTO:+0100
TZNAME:CET
DTSTART:20251026T010000
END:STANDARD
END:VTIMEZONE
BEGIN:VTIMEZONE
TZID:UTC
BEGIN:STANDARD
TZOFFSETFROM:+0000
TZOFFSETTO:+0000
TZNAME:UTC
DTSTART:20240101T000000
END:STANDARD
END:VTIMEZONE
BEGIN:VTIMEZONE
TZID:Europe/Paris
BEGIN:DAYLIGHT
TZOFFSETFROM:+0100
TZOFFSETTO:+0200
TZNAME:CEST
DTSTART:20230326T010000
END:DAYLIGHT
BEGIN:STANDARD
TZOFFSETFROM:+0200
TZOFFSETTO:+0100
TZNAME:CET
DTSTART:20231029T010000
END:STANDARD
END:VTIMEZONE
BEGIN:VEVENT
DTSTART;TZID=Europe/Prague:20250727T000000
DTEND;TZID=Europe/Prague:20250727T235959
DTSTAMP:20260425T130341
CREATED:20250622T213339Z
LAST-MODIFIED:20250622T214116Z
UID:302-1753574400-1753660799@mostlyharmless.cz
SUMMARY:Koncert Třebechovice pod Orebem
DESCRIPTION:Koncert Třebechovice pod Orebem
URL:https://mostlyharmless.cz/event/302/
LOCATION:Třebechovice pod Orebem\, Masarykovo náměstí\, Třebechovice pod Orebem
CATEGORIES:Koncerty
ATTACH;FMTTYPE=image/jpeg:https://mostlyharmless.cz/wp-content/uploads/2024/01/Mostly-Harmless-logo-1.jpg
END:VEVENT
BEGIN:VEVENT
DTSTART;TZID=Europe/Prague:20250706T000000
DTEND;TZID=Europe/Prague:20250706T235959
DTSTAMP:20260425T130341
CREATED:20250622T213006Z
LAST-MODIFIED:20250622T213536Z
UID:297-1751760000-1751846399@mostlyharmless.cz
SUMMARY:Koncert Bouzov 2025
DESCRIPTION:Koncert Bouzov 2025
URL:https://mostlyharmless.cz/event/297/
LOCATION:Hrad Bouzov\, Hrad Bouzov\, Bouzov\, Czech Republic
CATEGORIES:Koncerty
ATTACH;FMTTYPE=image/jpeg:https://mostlyharmless.cz/wp-content/uploads/2024/01/Mostly-Harmless-logo.jpg
END:VEVENT
BEGIN:VEVENT
DTSTART;TZID=UTC:20240922T000000
DTEND;TZID=UTC:20240922T235959
DTSTAMP:20260425T130341
CREATED:20230930T161547Z
LAST-MODIFIED:20240119T075342Z
UID:185-1726963200-1727049599@mostlyharmless.cz
SUMMARY:Koncert Valtice
DESCRIPTION:
URL:https://mostlyharmless.cz/event/185/
CATEGORIES:Koncerty
END:VEVENT
BEGIN:VEVENT
DTSTART;TZID=UTC:20240825T000000
DTEND;TZID=UTC:20240825T235959
DTSTAMP:20260425T130341
CREATED:20230929T152940Z
LAST-MODIFIED:20240805T132921Z
UID:163-1724544000-1724630399@mostlyharmless.cz
SUMMARY:Koncert Jeseník
DESCRIPTION:ZRUŠENO \n\n\n\n \n\n\n\nTak došlo k dalšímu odložení akce\, takže jsme nuceni koncert zrušit :(((( \n\n\n\n \n\n\n\nOmlouváme se\, pořadatel z technických důvodů koncert odkládá\, místo 19. 5. bude koncert 25. 8.
URL:https://mostlyharmless.cz/event/koncert-jesenik/
LOCATION:Jeseník\, Jeseník\, Česká republika
CATEGORIES:Koncerty
END:VEVENT
BEGIN:VEVENT
DTSTART;TZID=UTC:20240721T000000
DTEND;TZID=UTC:20240721T235959
DTSTAMP:20260425T130341
CREATED:20230929T161050Z
LAST-MODIFIED:20240618T063737Z
UID:180-1721520000-1721606399@mostlyharmless.cz
SUMMARY:Koncert Bouzov
DESCRIPTION:
URL:https://mostlyharmless.cz/event/koncert-unicov/
CATEGORIES:Koncerty
END:VEVENT
BEGIN:VEVENT
DTSTART;TZID=UTC:20240629T191000
DTEND;TZID=UTC:20240629T210000
DTSTAMP:20260425T130341
CREATED:20230929T153214Z
LAST-MODIFIED:20240129T205521Z
UID:165-1719688200-1719694800@mostlyharmless.cz
SUMMARY:Koncert Vsetín
DESCRIPTION:
URL:https://mostlyharmless.cz/event/165/
CATEGORIES:Koncerty
END:VEVENT
BEGIN:VEVENT
DTSTART;TZID=UTC:20240412T220000
DTEND;TZID=UTC:20240412T235959
DTSTAMP:20260425T130341
CREATED:20230927T122444Z
LAST-MODIFIED:20240111T182132Z
UID:159-1712959200-1712966399@mostlyharmless.cz
SUMMARY:Koncert Olomouc
DESCRIPTION:Pouze pro zvané \n\n\n\nAfterparty oslavy 30 let od hokejového titulu HC Olomouc
URL:https://mostlyharmless.cz/event/koncert-olomouc/
LOCATION:Jazz Klub Tibet\, Sokolská 48\, Olomouc\, Česká republika
CATEGORIES:Koncerty
ATTACH;FMTTYPE=image/jpeg:https://mostlyharmless.cz/wp-content/uploads/2024/01/Mostly-Harmless-logo-1.jpg
END:VEVENT
BEGIN:VEVENT
DTSTART;TZID=Europe/Paris:20231014T200000
DTEND;TZID=Europe/Paris:20231014T213000
DTSTAMP:20260425T130341
CREATED:20230920T155054Z
LAST-MODIFIED:20230929T153403Z
UID:70-1697313600-1697319000@mostlyharmless.cz
SUMMARY:Koncert Oryx
DESCRIPTION:
URL:https://mostlyharmless.cz/event/koncert/
LOCATION:Oryx\, Na Jarově 2424/2\, Praha - Žižkov\, Česká republika
CATEGORIES:Koncerty
ATTACH;FMTTYPE=image/jpeg:https://mostlyharmless.cz/wp-content/uploads/2023/09/Oryx-koncert-scaled.jpg
END:VEVENT
END:VCALENDAR